BEGIN:VCALENDAR
VERSION:2.0
PRODID:-//Stadsboerderij Holywood - ECPv5.12.0//NONSGML v1.0//EN
CALSCALE:GREGORIAN
METHOD:PUBLISH
X-WR-CALNAME:Stadsboerderij Holywood
X-ORIGINAL-URL:https://stadsboerderijholywood.nl
X-WR-CALDESC:Events for Stadsboerderij Holywood
REFRESH-INTERVAL;VALUE=DURATION:PT1H
X-Robots-Tag:noindex
X-PUBLISHED-TTL:PT1H
BEGIN:VTIMEZONE
TZID:UTC
BEGIN:STANDARD
TZOFFSETFROM:+0000
TZOFFSETTO:+0000
TZNAME:UTC
DTSTART:20240101T000000
END:STANDARD
END:VTIMEZONE
BEGIN:VEVENT
DTSTART;TZID=UTC:20241130T140000
DTEND;TZID=UTC:20241130T163000
DTSTAMP:20260423T094923
CREATED:20241107T142227Z
LAST-MODIFIED:20241107T142227Z
UID:36503-1732975200-1732984200@stadsboerderijholywood.nl
SUMMARY:Pietenfeest
DESCRIPTION:Goed nieuws! Sinterklaas is weer (bijna) in het land! En dat betekent natuurlijk dat ook de boerderijpieten ons weer komen bezoeken! Ze vonden het vorig jaar bij ons zó gezellig\, dat ze op 30 november tussen 14.00 uur en 16.30 uur ons weer komen verblijden met leuke dansjes\, spelletjes en natuurlijk heel veel lekkers! tot dan!
URL:https://stadsboerderijholywood.nl/evenement/pietenfeest/
LOCATION:Stadsboerderij Holywood
END:VEVENT
BEGIN:VEVENT
DTSTART;TZID=UTC:20260502T120000
DTEND;TZID=UTC:20260502T170000
DTSTAMP:20260423T094923
CREATED:20260419T200412Z
LAST-MODIFIED:20260419T200811Z
UID:36604-1777723200-1777741200@stadsboerderijholywood.nl
SUMMARY:Weidedag & schapenscheren
DESCRIPTION:Op 2 mei is het feest op de boerderij. Van 12.00 tot 17.00 uur ben je van harte welkom om de beesten in de wei te zien rondrennen en met hen te genieten van hopelijk een heerlijk zonnetje! \nProgramma\nOm 12.30 uur gaan de koeien naar buiten. Kom kijken naar deze geweldige “koeiendans”. Vanaf 13.00 uur gaan we de schapen scheren. Superleuk om naar te kijken! \nPoffertjes en hamburgers\nAan de inwendige mens wordt ook gedacht. De poffertjespan staat klaar en op de bbq bakken we de lekkerste hamburgers. \nVoor het hele gezin\nEr lopen heel veel jonge dieren rond op de boerderij. Leuk voor jong en “oud” 😃 De kinderen kunnen zich daarnaast lekker vermaken in de speeltuin en op het springkussen. \nEn natuurlijk kun je terecht in onze boerderijwinkel voor de lekkerste producten. \nKom je gezellig langs op deze weidedag? \nGraag tot ziens op 2 mei!!
URL:https://stadsboerderijholywood.nl/evenement/weidedag-schapenscheren/
LOCATION:Stadsboerderij Holywood
END:VEVENT
END:VCALENDAR